BEGIN:VCALENDAR
VERSION:2.0
PRODID:-//Yaseen Educational Institute - ECPv6.15.11//NONSGML v1.0//EN
CALSCALE:GREGORIAN
METHOD:PUBLISH
X-WR-CALNAME:Yaseen Educational Institute
X-ORIGINAL-URL:https://yaseened.org
X-WR-CALDESC:Events for Yaseen Educational Institute
REFRESH-INTERVAL;VALUE=DURATION:PT1H
X-Robots-Tag:noindex
X-PUBLISHED-TTL:PT1H
BEGIN:VTIMEZONE
TZID:America/Los_Angeles
BEGIN:DAYLIGHT
TZOFFSETFROM:-0800
TZOFFSETTO:-0700
TZNAME:PDT
DTSTART:20220313T100000
END:DAYLIGHT
BEGIN:STANDARD
TZOFFSETFROM:-0700
TZOFFSETTO:-0800
TZNAME:PST
DTSTART:20221106T090000
END:STANDARD
BEGIN:DAYLIGHT
TZOFFSETFROM:-0800
TZOFFSETTO:-0700
TZNAME:PDT
DTSTART:20230312T100000
END:DAYLIGHT
BEGIN:STANDARD
TZOFFSETFROM:-0700
TZOFFSETTO:-0800
TZNAME:PST
DTSTART:20231105T090000
END:STANDARD
BEGIN:DAYLIGHT
TZOFFSETFROM:-0800
TZOFFSETTO:-0700
TZNAME:PDT
DTSTART:20240310T100000
END:DAYLIGHT
BEGIN:STANDARD
TZOFFSETFROM:-0700
TZOFFSETTO:-0800
TZNAME:PST
DTSTART:20241103T090000
END:STANDARD
END:VTIMEZONE
BEGIN:VEVENT
DTSTART;TZID=America/Los_Angeles:20230702T110000
DTEND;TZID=America/Los_Angeles:20230702T120000
DTSTAMP:20260419T070516
CREATED:20230628T062501Z
LAST-MODIFIED:20230702T055318Z
UID:1349-1688295600-1688299200@yaseened.org
SUMMARY:Paradigms of Modernity: Deciphering Secularism
DESCRIPTION:As-Salaamu Alaykum\, \nWe are so excited to announce Paradigms of Modernity: Deciphering Secularism as part of our seminar curriculum featuring Sheikh Navaid Chalusi. \nRegistration is required for all participants and all participants must abide by Islamic classroom etiquette when joining online: \n\nThe seminar will begin promptly at 11:00 am PDT. Please plan to log in prior to class start.\nCameras must be on for the duration of the class. Turned-off cameras or stepping away for an extended period will result in dismissal.\nPlease ensure your full name is displayed when joining the Zoom meeting.\nAll participants must abide by Islamic classroom etiquette when joining online\, this includes (but is not limited to):\n\nEngaging only in classroom-related activities while in session\n\n\n\nFor any questions or concerns pertaining to class content or seminars\, please contact events@yaseened.org \nRegister Here!
URL:https://yaseened.org/event/paradigms-of-modernity-deciphering-secularism/
LOCATION:Virtual
CATEGORIES:Summer Seminar Series
ATTACH;FMTTYPE=image/jpeg:https://yaseened.org/wp-content/uploads/2023/06/Seminar-3_-Flyer.jpg
ORGANIZER;CN="Yaseen Educational Foundation":MAILTO:events@yaseened.org
END:VEVENT
END:VCALENDAR