BEGIN:VCALENDAR
VERSION:2.0
PRODID:-//Yaseen Educational Institute - ECPv6.15.11//NONSGML v1.0//EN
CALSCALE:GREGORIAN
METHOD:PUBLISH
X-WR-CALNAME:Yaseen Educational Institute
X-ORIGINAL-URL:https://yaseened.org
X-WR-CALDESC:Events for Yaseen Educational Institute
REFRESH-INTERVAL;VALUE=DURATION:PT1H
X-Robots-Tag:noindex
X-PUBLISHED-TTL:PT1H
BEGIN:VTIMEZONE
TZID:America/Los_Angeles
BEGIN:DAYLIGHT
TZOFFSETFROM:-0800
TZOFFSETTO:-0700
TZNAME:PDT
DTSTART:20220313T100000
END:DAYLIGHT
BEGIN:STANDARD
TZOFFSETFROM:-0700
TZOFFSETTO:-0800
TZNAME:PST
DTSTART:20221106T090000
END:STANDARD
BEGIN:DAYLIGHT
TZOFFSETFROM:-0800
TZOFFSETTO:-0700
TZNAME:PDT
DTSTART:20230312T100000
END:DAYLIGHT
BEGIN:STANDARD
TZOFFSETFROM:-0700
TZOFFSETTO:-0800
TZNAME:PST
DTSTART:20231105T090000
END:STANDARD
BEGIN:DAYLIGHT
TZOFFSETFROM:-0800
TZOFFSETTO:-0700
TZNAME:PDT
DTSTART:20240310T100000
END:DAYLIGHT
BEGIN:STANDARD
TZOFFSETFROM:-0700
TZOFFSETTO:-0800
TZNAME:PST
DTSTART:20241103T090000
END:STANDARD
END:VTIMEZONE
BEGIN:VEVENT
DTSTART;TZID=America/Los_Angeles:20230709T110000
DTEND;TZID=America/Los_Angeles:20230709T120000
DTSTAMP:20260419T070639
CREATED:20230702T052447Z
LAST-MODIFIED:20230702T061540Z
UID:1368-1688900400-1688904000@yaseened.org
SUMMARY:Paradigms of Modernity: Deciphering Feminism
DESCRIPTION:Topic: “Paradigms of Modernity: Deciphering Feminism”\nLecturer: Hajj Kauthar Khan\nDate: Sunday\, July 9th\, 2023\nTime: 11:00 am-12:00 pm PDT\nLocation: Yaseen Educational Foundation \n\nThe seminar will begin promptly at 11:00 am PDT. Please plan to arrive early to check in prior to class start.\nThis seminar is in-person only.\nAll participants must abide by Islamic classroom etiquette when joining\, this includes:\n\nArriving on time to maintain a respectful and focused classroom environment\nEngaging only in classroom-related activity while in session\nSilencing all devices\n\n\n\nFor any questions or concerns pertaining to class content or seminars\, please contact events@yaseened.org \nRegister Now!
URL:https://yaseened.org/event/paradigms-of-modernity-deciphering-feminism/
LOCATION:Yaseen OC\, 1139 N Anaheim Blvd\, Anaheim\, CA\, 92801\, United States
CATEGORIES:Summer Seminar Series
ATTACH;FMTTYPE=image/jpeg:https://yaseened.org/wp-content/uploads/2023/07/Summer-Seminar-Series-8.jpg
ORGANIZER;CN="Yaseen Educational Foundation":MAILTO:events@yaseened.org
END:VEVENT
END:VCALENDAR